BEGIN:VCALENDAR
VERSION:2.0
PRODID:-//FarmTech Society - ECPv6.8.1//NONSGML v1.0//EN
CALSCALE:GREGORIAN
METHOD:PUBLISH
X-WR-CALNAME:FarmTech Society
X-ORIGINAL-URL:https://www.farmtechsociety.org
X-WR-CALDESC:Events for FarmTech Society
REFRESH-INTERVAL;VALUE=DURATION:PT1H
X-Robots-Tag:noindex
X-PUBLISHED-TTL:PT1H
BEGIN:VTIMEZONE
TZID:Europe/Helsinki
BEGIN:DAYLIGHT
TZOFFSETFROM:+0200
TZOFFSETTO:+0300
TZNAME:EEST
DTSTART:20250330T010000
END:DAYLIGHT
BEGIN:STANDARD
TZOFFSETFROM:+0300
TZOFFSETTO:+0200
TZNAME:EET
DTSTART:20251026T010000
END:STANDARD
END:VTIMEZONE
BEGIN:VEVENT
DTSTART;VALUE=DATE:20250708
DTEND;VALUE=DATE:20250711
DTSTAMP:20260425T192938
CREATED:20250814T081802Z
LAST-MODIFIED:20250814T081802Z
UID:5264-1752015600-1752274799@www.farmtechsociety.org
SUMMARY:Greentech Amsterdam 2025
DESCRIPTION:Join us on 9 – 10 – 11 June 2026 at RAI Amsterdam for the #1 horticulture technology event! Industry professionals from all over the world come together to connect\, network\, share knowledge and do business. \nGreenTech Amsterdam offers you a complete overview of the products and services for growing the best crops in your greenhouse.
URL:https://www.farmtechsociety.org/event/greentech-amsterdam-2025/
END:VEVENT
END:VCALENDAR