BEGIN:VCALENDAR
VERSION:2.0
PRODID:-//FarmTech Society - ECPv6.8.1//NONSGML v1.0//EN
CALSCALE:GREGORIAN
METHOD:PUBLISH
X-ORIGINAL-URL:https://www.farmtechsociety.org
X-WR-CALDESC:Events for FarmTech Society
REFRESH-INTERVAL;VALUE=DURATION:PT1H
X-Robots-Tag:noindex
X-PUBLISHED-TTL:PT1H
BEGIN:VTIMEZONE
TZID:Europe/Helsinki
BEGIN:DAYLIGHT
TZOFFSETFROM:+0200
TZOFFSETTO:+0300
TZNAME:EEST
DTSTART:20250330T010000
END:DAYLIGHT
BEGIN:STANDARD
TZOFFSETFROM:+0300
TZOFFSETTO:+0200
TZNAME:EET
DTSTART:20251026T010000
END:STANDARD
END:VTIMEZONE
BEGIN:VEVENT
DTSTART;TZID=Europe/Helsinki:20251119T163000
DTEND;TZID=Europe/Helsinki:20251119T173000
DTSTAMP:20260425T175929
CREATED:20251118T135244Z
LAST-MODIFIED:20251118T135349Z
UID:5320-1763569800-1763573400@www.farmtechsociety.org
SUMMARY:FTS Knowledge Exchange November 2025
DESCRIPTION:Workshop with Dr. Alexander Sentinella (Growing Media Europe) discussing sustainability definitions\, environmental footprints\, and lifecycle assessment for horticulture supply chains. Registration via Welcome/Luma.
URL:https://www.farmtechsociety.org/event/knowledge-exchange-sustainability-of-growing-media-towards-a-common-definition-and-accurate-measurement/
LOCATION:Zoom
CATEGORIES:Climate
END:VEVENT
END:VCALENDAR