BEGIN:VCALENDAR
VERSION:2.0
PRODID:-//FarmTech Society - ECPv6.8.1//NONSGML v1.0//EN
CALSCALE:GREGORIAN
METHOD:PUBLISH
X-WR-CALNAME:FarmTech Society
X-ORIGINAL-URL:https://www.farmtechsociety.org
X-WR-CALDESC:Events for FarmTech Society
REFRESH-INTERVAL;VALUE=DURATION:PT1H
X-Robots-Tag:noindex
X-PUBLISHED-TTL:PT1H
BEGIN:VTIMEZONE
TZID:Europe/Helsinki
BEGIN:DAYLIGHT
TZOFFSETFROM:+0200
TZOFFSETTO:+0300
TZNAME:EEST
DTSTART:20260329T010000
END:DAYLIGHT
BEGIN:STANDARD
TZOFFSETFROM:+0300
TZOFFSETTO:+0200
TZNAME:EET
DTSTART:20261025T010000
END:STANDARD
END:VTIMEZONE
BEGIN:VEVENT
DTSTART;TZID=Europe/Helsinki:20260117T080000
DTEND;TZID=Europe/Helsinki:20260119T170000
DTSTAMP:20260425T144742
CREATED:20251118T142644Z
LAST-MODIFIED:20251118T142644Z
UID:5338-1768636800-1768842000@www.farmtechsociety.org
SUMMARY:Agri Expo International Exhibition & Conference for Agriculture Supplies
DESCRIPTION:The 11th International Exhibition & Conference for supplies “Agri Expo”\, Egypt’s major agricultural show\, held annually from 17–19 January 2026 at Cairo International Convention Centre (CICC). Over 350 exhibitors\, 20\,000 visitors\, 17 country pavilions and 250+ buyers\, with a strong focus on international trade.
URL:https://www.farmtechsociety.org/event/agri-expo-international-exhibition-conference-for-agriculture-supplies/
LOCATION:Cairo International Convention Centre-Nasr City – (CICC)\, Cairo International Convention Centre-Nasr City\, Cairo International Convention Centre-Nasr City - (CICC)\, Cairo\, Egypt
CATEGORIES:Exhibition
END:VEVENT
END:VCALENDAR