BEGIN:VCALENDAR
VERSION:2.0
PRODID:-//FarmTech Society - ECPv6.8.1//NONSGML v1.0//EN
CALSCALE:GREGORIAN
METHOD:PUBLISH
X-WR-CALNAME:FarmTech Society
X-ORIGINAL-URL:https://www.farmtechsociety.org
X-WR-CALDESC:Events for FarmTech Society
REFRESH-INTERVAL;VALUE=DURATION:PT1H
X-Robots-Tag:noindex
X-PUBLISHED-TTL:PT1H
BEGIN:VTIMEZONE
TZID:Europe/Helsinki
BEGIN:DAYLIGHT
TZOFFSETFROM:+0200
TZOFFSETTO:+0300
TZNAME:EEST
DTSTART:20260329T010000
END:DAYLIGHT
BEGIN:STANDARD
TZOFFSETFROM:+0300
TZOFFSETTO:+0200
TZNAME:EET
DTSTART:20261025T010000
END:STANDARD
BEGIN:DAYLIGHT
TZOFFSETFROM:+0200
TZOFFSETTO:+0300
TZNAME:EEST
DTSTART:20270328T010000
END:DAYLIGHT
BEGIN:STANDARD
TZOFFSETFROM:+0300
TZOFFSETTO:+0200
TZNAME:EET
DTSTART:20271031T010000
END:STANDARD
TZID:Africa/Nairobi
BEGIN:STANDARD
TZOFFSETFROM:+0300
TZOFFSETTO:+0300
TZNAME:EAT
DTSTART:20260101T000000
END:STANDARD
END:VTIMEZONE
BEGIN:VEVENT
DTSTART;VALUE=DATE:20260615
DTEND;VALUE=DATE:20260618
DTSTAMP:20260425T142306
CREATED:20260122T070547Z
LAST-MODIFIED:20260122T070547Z
UID:5406-1781564400-1781823599@www.farmtechsociety.org
SUMMARY:Seagriculture EU
DESCRIPTION:Seagriculture EU has been successfully organised since 2012 and takes place every year in another country in Europe. The conference has built up a solid reputation as the leading conference for the Seaweed industry. \nThe Seagriculture EU conference program is designed to provide you with a comprehensive overview of the seaweed industry\, from the latest research to practical applications in the marketplace. With a diverse range of sessions\, the conference provides an opportunity for attendees to learn from experts in the field\, network with industry professionals\, and stay up-to-date on the latest developments in the seaweed industry.
URL:https://www.farmtechsociety.org/event/seagriculture-eu/
ATTACH;FMTTYPE=image/jpeg:https://www.farmtechsociety.org/wp-content/uploads/2026/01/49c324dc-1fa4-4c03-b7e0-d7d289e7c668.jpg
END:VEVENT
BEGIN:VEVENT
DTSTART;VALUE=DATE:20260616
DTEND;VALUE=DATE:20260619
DTSTAMP:20260425T142306
CREATED:20260122T070348Z
LAST-MODIFIED:20260122T070348Z
UID:5403-1781650800-1781909999@www.farmtechsociety.org
SUMMARY:Agritec Africa
DESCRIPTION:Agritec Africa has been taking place in the capital of Kenya\, Nairobi\, annually since 2014. The trade fair is an ideal trade fair platform for making and building contacts in the agriculture\, livestock\, dairy and grain industries.
URL:https://www.farmtechsociety.org/event/agritec-africa/
ATTACH;FMTTYPE=image/png:https://www.farmtechsociety.org/wp-content/uploads/2026/01/12th-Agritec-Africa-Logo.png
END:VEVENT
BEGIN:VEVENT
DTSTART;VALUE=DATE:20260907
DTEND;VALUE=DATE:20260910
DTSTAMP:20260425T142306
CREATED:20260122T070940Z
LAST-MODIFIED:20260122T070940Z
UID:5414-1788822000-1789081199@www.farmtechsociety.org
SUMMARY:AgroFarm Middle East
DESCRIPTION:AgroFarm is a international trade fair brand for animal production and caters to all species in animal farming along every step of the value chain. \nAgroFarm Middle East is the only trade fair in the UAE specialized 100 % in animal farming. AgroFarm ME covers the whole portfolio for all locally relevant animal species. The show offers a comprehensive technical program consisting of presentations and workshops and is co-located to the wellknown show for agricultural machinary and horticulture AGRAme.
URL:https://www.farmtechsociety.org/event/agrofarm-middle-east/
LOCATION:Dubai World Trade Center
ATTACH;FMTTYPE=image/jpeg:https://www.farmtechsociety.org/wp-content/uploads/2026/01/1fb5dece-7168-4c97-91fe-804ab2784d7d.jpg
END:VEVENT
BEGIN:VEVENT
DTSTART;VALUE=DATE:20260920
DTEND;VALUE=DATE:20260922
DTSTAMP:20260425T142306
CREATED:20260115T151744Z
LAST-MODIFIED:20260115T151744Z
UID:5389-1789945200-1790117999@www.farmtechsociety.org
SUMMARY:DOGK 2026
DESCRIPTION:Wir vernetzen die weltweite Obst- und Gemüsebranche mit Fachmedien und Events. Über Print- und Online-Magazine liefern wir täglich fundierte Markt-Insights. Mit internationalen Kongressen und Messe-Partnerschaften schaffen wir Plattformen\, auf denen Produzenten\, Händler und Dienstleister Wissen teilen\, Trends setzen und Geschäfte anstoßen.
URL:https://www.farmtechsociety.org/event/dogk-2026/
END:VEVENT
BEGIN:VEVENT
DTSTART;VALUE=DATE:20261018
DTEND;VALUE=DATE:20261022
DTSTAMP:20260425T142306
CREATED:20260122T070745Z
LAST-MODIFIED:20260122T070745Z
UID:5410-1792364400-1792709999@www.farmtechsociety.org
SUMMARY:Saudi Agriculture
DESCRIPTION:The international exhibition Saudi Agriculture will be held together with the exhibitions Saudi Agrofood\, Saudi FoodPack and Saudi Aquaculture. The exhibitors will present their products and technologies of the sectors agriculture\, animal husbandry and food industry. \nin 2025\, the Federal Ministry for Economic Affairs and Energy supportedGerman exhibitors and their subsidiaries with a German Pavilion for the first time and again in 2026.
URL:https://www.farmtechsociety.org/event/saudi-agriculture/
ATTACH;FMTTYPE=image/png:https://www.farmtechsociety.org/wp-content/uploads/2026/01/c0ca1048-e951-4ae1-b460-15a98353f4c8.png
END:VEVENT
BEGIN:VEVENT
DTSTART;VALUE=DATE:20261110
DTEND;VALUE=DATE:20261114
DTSTAMP:20260425T142306
CREATED:20260122T071053Z
LAST-MODIFIED:20260122T071053Z
UID:5418-1794268800-1794614399@www.farmtechsociety.org
SUMMARY:EuroTier
DESCRIPTION:EuroTier is the world’s leading trade fair for animal farming and livestock management. The innovation platform of the global animal production industry shows a complete overview of innovations\, solutions and established standards. It presents solutions and innovations for cattle\, pig and poultry farming. The subjects of sheep and goats\, boarding horses\, aquaculture\, alternative proteins and direct marketing complete the exhibition and specialist programme.
URL:https://www.farmtechsociety.org/event/eurotier/
ATTACH;FMTTYPE=image/png:https://www.farmtechsociety.org/wp-content/uploads/2026/01/1600856270930.png
END:VEVENT
BEGIN:VEVENT
DTSTART;VALUE=DATE:20261110
DTEND;VALUE=DATE:20261114
DTSTAMP:20260425T142306
CREATED:20260122T071208Z
LAST-MODIFIED:20260122T071208Z
UID:5421-1794268800-1794614399@www.farmtechsociety.org
SUMMARY:EnergyDecentral
DESCRIPTION:Energy supply and efficiency are among the decisive issues in our society today and\, in addition to the effects on our environment\, have a decisive influence on operational success. The EnergyDecentral as a specialised trade fair for decentralised energy supply\, together with the EuroTier\, offers a unique platform.
URL:https://www.farmtechsociety.org/event/energydecentral/
ATTACH;FMTTYPE=image/png:https://www.farmtechsociety.org/wp-content/uploads/2026/01/1600860578484.png
END:VEVENT
BEGIN:VEVENT
DTSTART;VALUE=DATE:20261110
DTEND;VALUE=DATE:20261114
DTSTAMP:20260425T142306
CREATED:20260122T071358Z
LAST-MODIFIED:20260122T071358Z
UID:5424-1794268800-1794614399@www.farmtechsociety.org
SUMMARY:Inhouse Farming - Feed & Food Show
DESCRIPTION:“Inhouse Farming – Feed & Food Show” is the DLG’s new platform for the agricultural and food systems of the future. Closely networked with agricultural practice\, it offers technical information\, perspectives\, innovations and business – from feed to food. \nThe exhibition portfolio and conference cover the most important technology-based production systems – from vertical farming to alternative protein production.
URL:https://www.farmtechsociety.org/event/inhouse-farming-feed-food-show/
ATTACH;FMTTYPE=image/jpeg:https://www.farmtechsociety.org/wp-content/uploads/2026/01/46589c23-3210-46f1-a8c9-74021478f9b7.jpg
END:VEVENT
BEGIN:VEVENT
DTSTART;VALUE=DATE:20261208
DTEND;VALUE=DATE:20261212
DTSTAMP:20260425T142306
CREATED:20260122T071551Z
LAST-MODIFIED:20260122T071551Z
UID:5427-1796688000-1797033599@www.farmtechsociety.org
SUMMARY:AlgaEurope Conference
DESCRIPTION:For years AlgaEurope has been one of the most global comprehensive conferences about science\, technology and business in the Algae Biomass sector. \nAlgaEurope is a unique opportunity to learn and understand all about algae production and commercialization and interact. \nThe conference program is designed to provide you with a comprehensive overview of the algae industry\, from the latest research to practical applications in the marketplace. With a diverse range of sessions\, the conference provides an opportunity for attendees to learn from experts in the field\, network with industry professionals\, and stay up-to-date on the latest developments in the algae biomass sector.
URL:https://www.farmtechsociety.org/event/algaeurope-conference/
LOCATION:Malta
ATTACH;FMTTYPE=image/jpeg:https://www.farmtechsociety.org/wp-content/uploads/2026/01/e007aa69-d5ec-4a76-ba2f-4ec32f1c77fd.jpg
END:VEVENT
BEGIN:VEVENT
DTSTART;VALUE=DATE:20270131
DTEND;VALUE=DATE:20270205
DTSTAMP:20260425T142306
CREATED:20260103T094240Z
LAST-MODIFIED:20260103T105840Z
UID:5385-1801353600-1801785599@www.farmtechsociety.org
SUMMARY:VertiFarm 2027
DESCRIPTION:Welcome to the IV International Workshop on Vertical Farming – VertiFarm2027 \nWe are delighted to invite you to join us in Ghent\, Belgium from January 31 to February 4 2027\, for an inspiring gathering of researchers\, innovators\, and industry leaders during this workshop under the aegis of the International Society for Horticultural Science (ISHS). As vertical farming continues to evolve\, this workshop offers a unique platform to exchange knowledge\, ideas\, discuss the state-of-the-art and future perspectives\, and foster new collaborations. \nNestled in the heart of Europe\, Ghent is a dynamic university city known for its rich history and vibrant culture. The city center is still breathing the atmosphere of a thriving late medieval city state. \nWe look forward to meeting you in Ghent!
URL:https://www.farmtechsociety.org/event/vertifarm-2027/
ATTACH;FMTTYPE=image/png:https://www.farmtechsociety.org/wp-content/uploads/2026/01/Startlogo-1030x360-1.png
END:VEVENT
BEGIN:VEVENT
DTSTART;VALUE=DATE:20270223
DTEND;VALUE=DATE:20270227
DTSTAMP:20260425T142306
CREATED:20260122T071707Z
LAST-MODIFIED:20260122T071707Z
UID:5431-1803340800-1803686399@www.farmtechsociety.org
SUMMARY:Anuga FoodTec
DESCRIPTION:As the leading global trade fair\, Anuga FoodTec is the most important driving force of the international food and beverage industry again. It is the only trade fair in the world that covers all aspects of food production. \nEvery 3 years\, Anuga FoodTec becomes the hotspot of the global food industry and its suppliers as well as a meeting point for visionaries and decision makers alike. \nThe industry presents its innovations and technological visions at Anuga FoodTec – from processing\, filling and packaging technology to packaging materials\, ingredients\, food safety and the entire range of innovations from all the areas associated with food production. It provides every solution for every food industry!
URL:https://www.farmtechsociety.org/event/anuga-foodtec/
ATTACH;FMTTYPE=image/png:https://www.farmtechsociety.org/wp-content/uploads/2026/01/1490215277773.png
END:VEVENT
END:VCALENDAR