BEGIN:VCALENDAR
VERSION:2.0
PRODID:-//FarmTech Society - ECPv6.8.1//NONSGML v1.0//EN
CALSCALE:GREGORIAN
METHOD:PUBLISH
X-WR-CALNAME:FarmTech Society
X-ORIGINAL-URL:https://www.farmtechsociety.org
X-WR-CALDESC:Events for FarmTech Society
REFRESH-INTERVAL;VALUE=DURATION:PT1H
X-Robots-Tag:noindex
X-PUBLISHED-TTL:PT1H
BEGIN:VTIMEZONE
TZID:UTC
BEGIN:STANDARD
TZOFFSETFROM:+0000
TZOFFSETTO:+0000
TZNAME:UTC
DTSTART:20210101T000000
END:STANDARD
TZID:Europe/London
BEGIN:DAYLIGHT
TZOFFSETFROM:+0000
TZOFFSETTO:+0100
TZNAME:BST
DTSTART:20210328T010000
END:DAYLIGHT
BEGIN:STANDARD
TZOFFSETFROM:+0100
TZOFFSETTO:+0000
TZNAME:GMT
DTSTART:20211031T010000
END:STANDARD
END:VTIMEZONE
BEGIN:VEVENT
DTSTART;TZID=UTC:20210617T140000
DTEND;TZID=UTC:20210617T153000
DTSTAMP:20260422T002100
CREATED:20210608T104645Z
LAST-MODIFIED:20210608T104801Z
UID:2662-1623938400-1623943800@www.farmtechsociety.org
SUMMARY:Greentech FTS virtual round table talks - How to tackle HR challenges in the industry?
DESCRIPTION:Join us on Thursday the 17th of June during our third GreenTech webinar: FTS virtual round table talks HR in CEA. Agriculture\, as a whole\, has a wide range of labour and HR challenges. How can CEA help the horticulture industry overcome these problems? Tune in to find out! \n \n\n\n\n\n\n In conventional field agriculture\, there are the challenges presented by over-reliance on seasonal migrant labour doing hazardous unsustainable jobs. CEA offers attractive STEM-based professional profiles to alleviate these issues\, by enabling year-round production and via automation and other process improvements lifting the professional profiles. Talent shortage also constitutes a significant bottleneck for CEA too\, insofar as the industry faces a shortage of candidates with the appropriate mix of skills and training. \nThis session is made possible by FarmTech and is moderated by Ponic Jobs.\nDuring these round table talks expect to learn more about: \n\nCEA industry to address within-industry challenges\nCEA industry to strategise on wider agricultural impact\nEngagement with wider agriculture\n\nWant to know more? Find out in these round table talks. Even if you can’t join live\, register now and you’ll be able to watch the recording of the webinar at your convenience.
URL:https://www.farmtechsociety.org/event/greentech-fts-virtual-round-table-talks-how-to-tackle-hr-challenges-in-the-industry/
CATEGORIES:CEA,Workforce development
ATTACH;FMTTYPE=image/png:https://www.farmtechsociety.org/wp-content/uploads/2020/10/GTFTS-sq-white.png
END:VEVENT
BEGIN:VEVENT
DTSTART;VALUE=DATE:20210616
DTEND;VALUE=DATE:20210618
DTSTAMP:20260422T002100
CREATED:20210217T160750Z
LAST-MODIFIED:20210414T102149Z
UID:2203-1623884400-1624057199@www.farmtechsociety.org
SUMMARY:2nd World Intelligent Farming Summit
DESCRIPTION:2nd Annual World Intelligent Farming Summit in Berlin\, Germany on June 17th and 18th. This edition will focus on the most successful business models of adopting digital technologies and data-driven solutions in the Farming Sector. \nThis two-day hybrid event will bring together senior-level executives and agribusiness professionals to discuss the current transformation in the farming industry and the best practices of implementing data-driven solutions to boost productivity and efficiency in the farming sector. Connect and learn from the best while taking a closer look at the latest technological advancements\, most effective tools and best practical cases studies from industry leaders. \nThis is an invaluable 2-day opportunity to network with industry leaders\, discuss the challenges of improving agricultural sector performance\, and finding a perfect combination of digital solutions to drive your business forward. \nLinkedin event here
URL:https://www.farmtechsociety.org/event/2nd-world-intelligent-farming-summit/
CATEGORIES:Agribusiness,AgriTech,CEA
ATTACH;FMTTYPE=image/jpeg:https://www.farmtechsociety.org/wp-content/uploads/2021/02/world-intelligent-farming_Banner.jpg
END:VEVENT
BEGIN:VEVENT
DTSTART;TZID=UTC:20210615T070000
DTEND;TZID=UTC:20210616T160000
DTSTAMP:20260422T002100
CREATED:20210602T145805Z
LAST-MODIFIED:20210602T145805Z
UID:2648-1623740400-1623859200@www.farmtechsociety.org
SUMMARY:Grey to Green Conference
DESCRIPTION:Grey to Green is the theme of an ongoing set of conferences that promote the latest research\, policy\, design practices\, products and progress in the green infrastructure industry now beginning to transform city life around the world. Grey to Green Toronto\, where the whole movement started\, will host its eight annual meeting this year June 15-16 virtually. \nGrey to Green is two days of non-stop learning\, networking\, career planning\, marketing\, touring and re-imagining. Enjoy an array of expert panels\, inspiring presentations\, behind-the-scenes tours\, q & a’s and one-on-one discussions.
URL:https://www.farmtechsociety.org/event/grey-to-green-conference/
ATTACH;FMTTYPE=image/jpeg:https://www.farmtechsociety.org/wp-content/uploads/2021/06/grey-to-green.jpg
END:VEVENT
BEGIN:VEVENT
DTSTART;VALUE=DATE:20210607
DTEND;VALUE=DATE:20210609
DTSTAMP:20260422T002100
CREATED:20210602T150845Z
LAST-MODIFIED:20210602T150845Z
UID:2651-1623106800-1623279599@www.farmtechsociety.org
SUMMARY:Indoor Ag-Conversations Special Edition
DESCRIPTION:Farm Tech Society & Brad McNamara have brought together indoor farming entrepreneurs & investors including Artemis\, Beta Hatch\, Rabobank\, Barclays\, Equilibrium\, Ceres Partners\, Infinite Acres\, Red Dog Capital\, BayWa\, AccelR8\, Ara Partners\,and others. They’ll share key insights on the nuances of indoor ag financing across all stages. Don’t miss it!\nhttps://indoor.ag/special-edition-indoor-ag-conversations/
URL:https://www.farmtechsociety.org/event/indoor-ag-conversations-special-edition/
CATEGORIES:Agribusiness,AgriTech,CEA,Investment
ATTACH;FMTTYPE=image/jpeg:https://www.farmtechsociety.org/wp-content/uploads/2021/06/Web.Crossing-The-Chasm-Financing-Indoor-Ag-Seed-To-Scale-fnl.jpg
END:VEVENT
BEGIN:VEVENT
DTSTART;VALUE=DATE:20210607
DTEND;VALUE=DATE:20210609
DTSTAMP:20260422T002100
CREATED:20210202T122916Z
LAST-MODIFIED:20210202T122916Z
UID:2192-1623106800-1623279599@www.farmtechsociety.org
SUMMARY:Bridge2Food - Plant-Based Foods Value Chain Europe 2021
DESCRIPTION:Join the only Virtual Exhibition Plant-Based Foods Value Chain in Europe dedicated to connecting: \n\n\n\n\n– Plant-Based Brands\n– Retailers\n– Foodservice\n– Food Brands\n– Ingredient Suppliers\n– Process Technology Suppliers\n– Packaging Suppliers\n– Research Institutes\n– Universities\n– Grower Associations\n– Breeders\n– Marketing & Brand Agencies\n– Food Application Development Labs & Consultants\n– HR Companies
URL:https://www.farmtechsociety.org/event/bridge2food-plant-based-foods-value-chain-europe-2021/
CATEGORIES:Plant-Based Foods
ATTACH;FMTTYPE=image/jpeg:https://www.farmtechsociety.org/wp-content/uploads/2021/02/B2f-logo-resized.jpg
END:VEVENT
BEGIN:VEVENT
DTSTART;TZID=Europe/London:20210604T080000
DTEND;TZID=Europe/London:20210604T170000
DTSTAMP:20260422T002100
CREATED:20210126T104549Z
LAST-MODIFIED:20210202T162059Z
UID:2165-1622793600-1622826000@www.farmtechsociety.org
SUMMARY:CEA 4.0 - Day 2
DESCRIPTION:This edition will look at the strategic context of ongoing\, future programmes and developments within CEA\, while also delving deep into the core topics of the various methods of growing associated with CEA\, capital expenditure (Capex)\, operational expenditure (Opex)\, standardisation & interoperability\, sustainability\, education\, policy\, biological processes\, energy requirements\, digital technology used\, and a CEA Technology Innovation Challenge designed for your participation. \n\n\n\n\nCEA 4.0 is focused on increasing collaboration\, productivity\, efficiency\, research\, and innovation to support the development of capabilities\, best practise\, and technology within the indoor plant cultivation sector.
URL:https://www.farmtechsociety.org/event/cea-4-0-day-2/
CATEGORIES:CEA
ATTACH;FMTTYPE=image/jpeg:https://www.farmtechsociety.org/wp-content/uploads/2021/01/logo-image-layered.jpg
END:VEVENT
BEGIN:VEVENT
DTSTART;VALUE=DATE:20210517
DTEND;VALUE=DATE:20210520
DTSTAMP:20260422T002100
CREATED:20210202T124339Z
LAST-MODIFIED:20210202T124339Z
UID:2196-1621292400-1621551599@www.farmtechsociety.org
SUMMARY:Fruit Logistica 2021
DESCRIPTION:3.300 exhibitors and 72.000 trade visitors attend FRUIT LOGISTICA every year to realize their full business potential within the international fresh produce trade – and to write their own success story! \nFRUIT LOGISTICA covers every single sector of the fresh produce business and provides a complete picture of the latest innovations\, products and services at every link in the international supply chain. It thus offers superb networking and contact opportunities to the key decision-makers in every sector of the industry.
URL:https://www.farmtechsociety.org/event/fruit-logistica-2021/
CATEGORIES:Fresh Produce
ATTACH;FMTTYPE=image/jpeg:https://www.farmtechsociety.org/wp-content/uploads/2021/02/fruit-logistica-logo.jpg
END:VEVENT
BEGIN:VEVENT
DTSTART;TZID=Europe/London:20210514T080000
DTEND;TZID=Europe/London:20210514T170000
DTSTAMP:20260422T002100
CREATED:20210126T105049Z
LAST-MODIFIED:20210202T162142Z
UID:2170-1620979200-1621011600@www.farmtechsociety.org
SUMMARY:CEA 4.0 - Day 1
DESCRIPTION:This edition will look at the strategic context of ongoing\, future programmes and developments within CEA\, while also delving deep into the core topics of the various methods of growing associated with CEA\, capital expenditure (Capex)\, operational expenditure (Opex)\, standardisation & interoperability\, sustainability\, education\, policy\, biological processes\, energy requirements\, digital technology used\, and a CEA Technology Innovation Challenge designed for your participation. \n\n\n\n\nCEA 4.0 is focused on increasing collaboration\, productivity\, efficiency\, research\, and innovation to support the development of capabilities\, best practise\, and technology within the indoor plant cultivation sector.
URL:https://www.farmtechsociety.org/event/cea-4-0-day-1/
CATEGORIES:CEA
ATTACH;FMTTYPE=image/jpeg:https://www.farmtechsociety.org/wp-content/uploads/2021/01/logo-image-layered.jpg
END:VEVENT
BEGIN:VEVENT
DTSTART;TZID=UTC:20210427T070000
DTEND;TZID=UTC:20210428T160000
DTSTAMP:20260422T002100
CREATED:20210225T142437Z
LAST-MODIFIED:20210316T132128Z
UID:2226-1619506800-1619625600@www.farmtechsociety.org
SUMMARY:Oman Sustainable Food Safety & Quality Management Virtual Fair
DESCRIPTION:The Oman Sustainable Food Safety and Quality Management Fair is a solution-based conference and exhibition that will discuss the future of food safety and challenges in the food industry supply chain brought about by the pandemic\, and present the direction and initiatives of Oman in line with the United Nations Sustainable Development Goals 2030 alongside its Vision 2040. \nThe two-day conference will also focus on food safety regulations\, the streamlining of the food supply chain amid new and evolving market environments\, the application of new and available technology\, and the implementation of sustainable and safe practices and methods in the entire agriculture and food industry in Oman. \nAdapting to the current COVID-19 situation\, the interactive event will run on an online platform to ensure the participation and engagement of the relevant food and food safety professionals and stakeholders around the world.
URL:https://www.farmtechsociety.org/event/oman-sustainable-food-safety-quality-management-virtual-fair/
CATEGORIES:food safety,Food Security
ATTACH;FMTTYPE=image/jpeg:https://www.farmtechsociety.org/wp-content/uploads/2021/02/eve_480058_phpoSCCC760409b7a0a7826.jpg
END:VEVENT
BEGIN:VEVENT
DTSTART;TZID=UTC:20210420T083000
DTEND;TZID=UTC:20210420T123000
DTSTAMP:20260422T002100
CREATED:20210412T095706Z
LAST-MODIFIED:20210412T095706Z
UID:2318-1618907400-1618921800@www.farmtechsociety.org
SUMMARY:MASTER CLASS - Building a greenhouse on a roof
DESCRIPTION:Answers on the constructive aspects of a greenhouse on the roof of a building \n\n\n\nDo you have questions about building a greenhouse on a roof? Would you like to know more about the relevance and technical feasibility of such a project? \nThrough this webinar\, experts are here to answer your questions. \nThe Institut de Formation Sectoriel du Bâtiment (IFSB)\, as project owner\, will present the different functionalities of the future largest urban greenhouse of the Grand Duchy of Luxembourg currently under construction in Bettembourg. \nThe architectural firm STDM\, will show the different challenges of integrating the greenhouse as an architectural object. \nArcelor Mittal\, will present the preferred materials in a context of privileged CO2 performance. \nNey & Partners\, the stability design office\, will present the various constraints and points of attention. \nThe possibilities in terms of glass walls will be explained by the company AGC. \nFinally\, DEFORCHE\, the contractor of this future greenhouse\, will give us a comparison on the construction of classic greenhouses versus the construction of roofed greenhouses. \nThis will be followed by a questions and answers session with our experts. \nFor your information\, the presentations will be given in French and English. You will be able to choose the language of your choice via the webinar platform. \nREGISTER\, it’s FREE \nThe Groof project\, funded by INTERREG NWE and Wallonia in Belgium\, gathers 11 European partners from Luxembourg\, France\, Belgium\, Germany and Spain.\n\n\n\n 
URL:https://www.farmtechsociety.org/event/master-class-building-a-greenhouse-on-a-roof/
CATEGORIES:AgriTech,Urban Farming,vertical farming
ATTACH;FMTTYPE=image/png:https://www.farmtechsociety.org/wp-content/uploads/2021/04/groof-masterclass.png
END:VEVENT
BEGIN:VEVENT
DTSTART;VALUE=DATE:20210418
DTEND;VALUE=DATE:20210420
DTSTAMP:20260422T002100
CREATED:20210408T093903Z
LAST-MODIFIED:20210408T093903Z
UID:2311-1618786800-1618959599@www.farmtechsociety.org
SUMMARY:CityZen Impact Workshop #02
DESCRIPTION:The second CityZen Impact Workshop ‘Inclusive governance to foster Urban Farming. Dealing with land and space scarcity in cities’ will be held online on April 19 (9.45 am – 1.15 pm CET) and April 20 (9.50 am – 1 pm CET)\, 2021. Interested people outside of our CityZen project community are welcome to join\, register here. \nDay 1 will deal with bridging the gap between decision-makers and bottom-up demands in Urban Farming and have practical cases on inclusive governance and multi-stakeholder engagement. \nDay 2 deals with land and space scarcity in cities and how vertical hydroponics\, rooftop greenhouses and aquaponic technologies can boost efficiency in urban food production. \nWith guest speakers from Spain\, The Netherlands\, UK\, Portugal and Greece as well as from DG AGRI\, ERIAFF and MMFN networks. \nYou can find the detailed agenda and our external speakers for both days online here.
URL:https://www.farmtechsociety.org/event/cityzen-impact-workshop-02/
CATEGORIES:Policy,Urban Farming
ATTACH;FMTTYPE=image/jpeg:https://www.farmtechsociety.org/wp-content/uploads/2021/04/cityzen-banner.jpg
END:VEVENT
BEGIN:VEVENT
DTSTART;VALUE=DATE:20210412
DTEND;VALUE=DATE:20210414
DTSTAMP:20260422T002100
CREATED:20210202T121151Z
LAST-MODIFIED:20210202T121313Z
UID:2186-1618268400-1618441199@www.farmtechsociety.org
SUMMARY:Bridge2Food - Plant-Based Foods Value Chain Americas 2021
DESCRIPTION:Join the only Virtual Exhibition Plant-Based Foods Value Chain in Americas dedicated to connecting: \n\n\n\n\n– Plant-Based Brands\n– Retailers\n– Foodservice\n– Food Brands\n– Ingredient Suppliers\n– Process Technology Suppliers\n– Packaging Suppliers\n– Research Institutes\n– Universities\n– Grower Associations\n– Breeders\n– Marketing & Brand Agencies\n– Food Application Development Labs\n– HR Companies
URL:https://www.farmtechsociety.org/event/bridge2food-plant-based-foods-value-chain-americas-2021/
CATEGORIES:Plant-Based Foods
ATTACH;FMTTYPE=image/jpeg:https://www.farmtechsociety.org/wp-content/uploads/2021/02/B2f-logo-resized.jpg
END:VEVENT
BEGIN:VEVENT
DTSTART;TZID=UTC:20210407T070000
DTEND;TZID=UTC:20210408T160000
DTSTAMP:20260422T002100
CREATED:20210222T133858Z
LAST-MODIFIED:20210222T133858Z
UID:2207-1617778800-1617897600@www.farmtechsociety.org
SUMMARY:AgroMach MENA 2021
DESCRIPTION:AgroMach MENA 2021 – is expected to be the largest virtual interactive framework and trade expo that will bring together key industry decision makers & stake holders to discuss\, network & do business. \nAgroMach continues to be a highly sought after exclusive content focussed conference and exhibition where decision makers\, key stakeholders and business leaders connect with industry experts\, manufacturers\, dealers and distributors for networking\, exploring business opportunities and exchanging innovative ideas. \nThe expo will showcase the widest range of latest agriculture machinery\, cutting edge irrigation solutions and innovative agri technologies in the Agriculture Sector. It will provide a dedicated platform for both MENA and international agriculture professionals\, manufacturers\, dealers and investors to discuss the nature of their business\, promote their resources and build fruitful partnerships with complete focus on business development.
URL:https://www.farmtechsociety.org/event/agromach-mena-2021/
CATEGORIES:Agribusiness,AgriTech
ATTACH;FMTTYPE=image/jpeg:https://www.farmtechsociety.org/wp-content/uploads/2021/02/agro-mach-2021.jpg
END:VEVENT
BEGIN:VEVENT
DTSTART;TZID=UTC:20210326T160000
DTEND;TZID=UTC:20210326T170000
DTSTAMP:20260422T002100
CREATED:20210326T152623Z
LAST-MODIFIED:20210326T152623Z
UID:2301-1616774400-1616778000@www.farmtechsociety.org
SUMMARY:Agri-tech\, Fueling a Revolution in Localized Food
DESCRIPTION:2020 shattered all previous records for new investment into Food and Agriculture innovation with $30 billion invested into companies reinventing how we eat and farm. Join us for an expert panel discussion with some of the U.S. and Europe’s leading high-tech farming companies – and learn how agri-tech is transforming the food economy. \n  \n 
URL:https://www.farmtechsociety.org/event/agri-tech-fueling-a-revolution-in-localized-food/
CATEGORIES:AgriTech,CEA,vertical farming
ATTACH;FMTTYPE=image/jpeg:https://www.farmtechsociety.org/wp-content/uploads/2021/03/188234227076047718.jpg
END:VEVENT
BEGIN:VEVENT
DTSTART;TZID=UTC:20210324T180000
DTEND;TZID=UTC:20210324T190000
DTSTAMP:20260422T002100
CREATED:20210319T183110Z
LAST-MODIFIED:20210319T183110Z
UID:2298-1616608800-1616612400@www.farmtechsociety.org
SUMMARY:Future Food Institute Digital Boot Camp Special Session
DESCRIPTION:Once a week the Food & Climate Shaper Digital Boot Camp opens the door of the virtual classroom to the public and live broadcasts selected conversations with experts. The 3rd open class of the 3rd edition is co-hosted with The FarmTech Society introducing their members\, Rijk Zwaan. \nVincent van Wolferen\, Jörg Werner\, Jan Doldersum – will dial in from Berlin and Amsterdam and talk about the challenges of vegetable breeding and the value chain\, and the trends disrupting the retail sector. The public audience will have the chance to participate in the conversation through the chat of their preferred platform. \n\n\n\n\n\n\n\n\n\nJourney of a Veggi Variety\nPart 1. Vegetable Breeding consumer challenge (Speaker Vincent van Wolferen)Breeding (NL) \n\nVariety testing in Spain\nCommercial test in Central America\nProduction launch\, shipping and sales in Europe\n\nPart 2. Chain Management (Jörg Werner) \n\nIntroduction RetailCenter Berlin\nVegetable value chain (from seeds to consumers)\nProduct innovation\nBrands and concepts\nConsumer research\nRetail category management\n\nPart 3. Retail/CoVid-19 (Jan Doldersum) \n\nRetail landscape Germany (fruit and veg)\nCoVid-19 trends and impact in Europe for fruit and veg\nDisruption trends in retail\n\nIntroduction and moderation by Tom Zoellner
URL:https://www.farmtechsociety.org/event/future-food-institute-digital-boot-camp-special-session/
CATEGORIES:Agribusiness,AgriTech,Supply Chain
ATTACH;FMTTYPE=image/jpeg:https://www.farmtechsociety.org/wp-content/uploads/2021/03/FFI_RZ.jpg
END:VEVENT
BEGIN:VEVENT
DTSTART;VALUE=DATE:20210324
DTEND;VALUE=DATE:20210326
DTSTAMP:20260422T002100
CREATED:20210210T122712Z
LAST-MODIFIED:20210210T122712Z
UID:2200-1616544000-1616716799@www.farmtechsociety.org
SUMMARY:FOODSEC - Middle East Food Security - Expo & Summit
DESCRIPTION:FOODSEC – Middle East Food Security is a Virtual Summit and Expo taking place from 24-25 March 2021. \nThe event is an inter-regional platform with a B2B & B2G international trade expo and summit presenting developments in Food Security at all spatial levels from local\, to global markets and from an interdisciplinary and systemic food systems perspective. \nThe event will feature participation from C-level executives\, thought leaders\, government decision makers\, focused investors\, entrepreneurs\, corporates\, food executives\, researchers\, technology experts\, innovators\, from across the agriculture and food production supply chain\, to uncover disruption within the industry and identify the right business models to commercialize and scale the next generation of solutions. \n\nExhibition\nThe Expo will feature the latest products\, services\, technologies and equipment to industry buyers. The exhibitors will have the opportunity to expand connections\, launch new products\, build new business partnerships and engage with one of the fastest growing markets in the world.\n\n\n\nSummit\nThe Summit will feature a stellar line-up of speakers\, presentations\, case studies and panel discussions providing access to a wealth of industry-leading knowledge\, information exchange\, cutting-edge insights and outlooks with actionable takeaways. Engage in thought-provoking discussions and share latest best practices\, challenges and thought leadership on ways to improve the local production. Discuss and share the m
URL:https://www.farmtechsociety.org/event/foodsec-middle-east-food-security-expo-summit/
CATEGORIES:Food Security,Supply Chain
ATTACH;FMTTYPE=image/png:https://www.farmtechsociety.org/wp-content/uploads/2021/02/FoodSec-Logo.png
END:VEVENT
BEGIN:VEVENT
DTSTART;TZID=UTC:20210322T163000
DTEND;TZID=UTC:20210322T183000
DTSTAMP:20260422T002100
CREATED:20210304T142642Z
LAST-MODIFIED:20210304T142831Z
UID:2265-1616430600-1616437800@www.farmtechsociety.org
SUMMARY:GLOBAL G.A.P. WORKSHOP on CEA
DESCRIPTION:High-tech monitoring and control systems in commercial controlled environment agriculture farms and their supply chains enable the opportunity to capture automated measurements\, support assessment and analyze a wide range of variables including water\, energy and inputs\, reducing costs and adding value for individual farms and across the industry. \nGlobalGAP\, UK Urban AgriTech and the FarmTech Society are continuing efforts towards the development and implementation of an impactful standard and certification process. \n 
URL:https://www.farmtechsociety.org/event/global-g-a-p-workshop-on-controlled-environment-agriculture-cea/
CATEGORIES:CEA,food safety,standards,Supply Chain,vertical farming
ATTACH;FMTTYPE=image/png:https://www.farmtechsociety.org/wp-content/uploads/2021/03/FTSUKUATggap.png
END:VEVENT
BEGIN:VEVENT
DTSTART;VALUE=DATE:20210216
DTEND;VALUE=DATE:20210218
DTSTAMP:20260422T002100
CREATED:20210127T102323Z
LAST-MODIFIED:20210127T102438Z
UID:2178-1613433600-1613606399@www.farmtechsociety.org
SUMMARY:Global Agriculture Technology Summit 2021
DESCRIPTION:The Global Agriculture Technology  Summit 2021 is a virtual conference with the presence of key industry players gathered around the world to discuss current issues and emerging opportunities through the lens of science and technology. The summit will also focus on mixtures of topics such as precision agriculture\, vertical farming\, talent management\, water & soil management\, fintech in agriculture\, women in AgTech\, cyber security and more. It will consist of case study presentations from thoughts leaders and interactive panel discussion to debate on some of the trending dialogues. \nKey topics include:\n\nWomen in AgTech\nFinTech and Farm Insurance\nThe New Normal: Vertical Farming\nTalent Pipeline for the Future of Agriculture\nDriving Agribusiness E-commerce and Digital Marketplace\nAgriFood Systems Innovation to Achieve Sustainable Development Goals\nPlanning for the Uncertainties – Crisis Response and Mitigation Planning to Ensure Business-As-Usual
URL:https://www.farmtechsociety.org/event/global-agriculture-technology-summit-2021/
CATEGORIES:CEA
ATTACH;FMTTYPE=image/png:https://www.farmtechsociety.org/wp-content/uploads/2021/01/IEG_AgriTech_logo-white.png
END:VEVENT
END:VCALENDAR