BEGIN:VCALENDAR
VERSION:2.0
PRODID:-//FarmTech Society - ECPv6.8.1//NONSGML v1.0//EN
CALSCALE:GREGORIAN
METHOD:PUBLISH
X-WR-CALNAME:FarmTech Society
X-ORIGINAL-URL:https://www.farmtechsociety.org
X-WR-CALDESC:Events for FarmTech Society
REFRESH-INTERVAL;VALUE=DURATION:PT1H
X-Robots-Tag:noindex
X-PUBLISHED-TTL:PT1H
BEGIN:VTIMEZONE
TZID:UTC
BEGIN:STANDARD
TZOFFSETFROM:+0000
TZOFFSETTO:+0000
TZNAME:UTC
DTSTART:20210101T000000
END:STANDARD
END:VTIMEZONE
BEGIN:VEVENT
DTSTART;VALUE=DATE:20210324
DTEND;VALUE=DATE:20210326
DTSTAMP:20260425T175352
CREATED:20210210T122712Z
LAST-MODIFIED:20210210T122712Z
UID:2200-1616544000-1616716799@www.farmtechsociety.org
SUMMARY:FOODSEC - Middle East Food Security - Expo & Summit
DESCRIPTION:FOODSEC – Middle East Food Security is a Virtual Summit and Expo taking place from 24-25 March 2021. \nThe event is an inter-regional platform with a B2B & B2G international trade expo and summit presenting developments in Food Security at all spatial levels from local\, to global markets and from an interdisciplinary and systemic food systems perspective. \nThe event will feature participation from C-level executives\, thought leaders\, government decision makers\, focused investors\, entrepreneurs\, corporates\, food executives\, researchers\, technology experts\, innovators\, from across the agriculture and food production supply chain\, to uncover disruption within the industry and identify the right business models to commercialize and scale the next generation of solutions. \n\nExhibition\nThe Expo will feature the latest products\, services\, technologies and equipment to industry buyers. The exhibitors will have the opportunity to expand connections\, launch new products\, build new business partnerships and engage with one of the fastest growing markets in the world.\n\n\n\nSummit\nThe Summit will feature a stellar line-up of speakers\, presentations\, case studies and panel discussions providing access to a wealth of industry-leading knowledge\, information exchange\, cutting-edge insights and outlooks with actionable takeaways. Engage in thought-provoking discussions and share latest best practices\, challenges and thought leadership on ways to improve the local production. Discuss and share the m
URL:https://www.farmtechsociety.org/event/foodsec-middle-east-food-security-expo-summit/
CATEGORIES:Food Security,Supply Chain
ATTACH;FMTTYPE=image/png:https://www.farmtechsociety.org/wp-content/uploads/2021/02/FoodSec-Logo.png
END:VEVENT
BEGIN:VEVENT
DTSTART;TZID=UTC:20210322T163000
DTEND;TZID=UTC:20210322T183000
DTSTAMP:20260425T175352
CREATED:20210304T142642Z
LAST-MODIFIED:20210304T142831Z
UID:2265-1616430600-1616437800@www.farmtechsociety.org
SUMMARY:GLOBAL G.A.P. WORKSHOP on CEA
DESCRIPTION:High-tech monitoring and control systems in commercial controlled environment agriculture farms and their supply chains enable the opportunity to capture automated measurements\, support assessment and analyze a wide range of variables including water\, energy and inputs\, reducing costs and adding value for individual farms and across the industry. \nGlobalGAP\, UK Urban AgriTech and the FarmTech Society are continuing efforts towards the development and implementation of an impactful standard and certification process. \n 
URL:https://www.farmtechsociety.org/event/global-g-a-p-workshop-on-controlled-environment-agriculture-cea/
CATEGORIES:CEA,food safety,standards,Supply Chain,vertical farming
ATTACH;FMTTYPE=image/png:https://www.farmtechsociety.org/wp-content/uploads/2021/03/FTSUKUATggap.png
END:VEVENT
BEGIN:VEVENT
DTSTART;VALUE=DATE:20210216
DTEND;VALUE=DATE:20210218
DTSTAMP:20260425T175352
CREATED:20210127T102323Z
LAST-MODIFIED:20210127T102438Z
UID:2178-1613433600-1613606399@www.farmtechsociety.org
SUMMARY:Global Agriculture Technology Summit 2021
DESCRIPTION:The Global Agriculture Technology  Summit 2021 is a virtual conference with the presence of key industry players gathered around the world to discuss current issues and emerging opportunities through the lens of science and technology. The summit will also focus on mixtures of topics such as precision agriculture\, vertical farming\, talent management\, water & soil management\, fintech in agriculture\, women in AgTech\, cyber security and more. It will consist of case study presentations from thoughts leaders and interactive panel discussion to debate on some of the trending dialogues. \nKey topics include:\n\nWomen in AgTech\nFinTech and Farm Insurance\nThe New Normal: Vertical Farming\nTalent Pipeline for the Future of Agriculture\nDriving Agribusiness E-commerce and Digital Marketplace\nAgriFood Systems Innovation to Achieve Sustainable Development Goals\nPlanning for the Uncertainties – Crisis Response and Mitigation Planning to Ensure Business-As-Usual
URL:https://www.farmtechsociety.org/event/global-agriculture-technology-summit-2021/
CATEGORIES:CEA
ATTACH;FMTTYPE=image/png:https://www.farmtechsociety.org/wp-content/uploads/2021/01/IEG_AgriTech_logo-white.png
END:VEVENT
END:VCALENDAR