BEGIN:VCALENDAR
VERSION:2.0
PRODID:-//FarmTech Society - ECPv6.8.1//NONSGML v1.0//EN
CALSCALE:GREGORIAN
METHOD:PUBLISH
X-ORIGINAL-URL:https://www.farmtechsociety.org
X-WR-CALDESC:Events for FarmTech Society
REFRESH-INTERVAL;VALUE=DURATION:PT1H
X-Robots-Tag:noindex
X-PUBLISHED-TTL:PT1H
BEGIN:VTIMEZONE
TZID:Asia/Bangkok
BEGIN:STANDARD
TZOFFSETFROM:+0700
TZOFFSETTO:+0700
TZNAME:+07
DTSTART:20260101T000000
END:STANDARD
END:VTIMEZONE
BEGIN:VEVENT
DTSTART;VALUE=DATE:20260518
DTEND;VALUE=DATE:20260521
DTSTAMP:20260425T045544
CREATED:20260122T065723Z
LAST-MODIFIED:20260122T065723Z
UID:5391-1779145200-1779404399@www.farmtechsociety.org
SUMMARY:Seagriculture
DESCRIPTION:DLG Benelux\, the organizer of the renowned Seagriculture conferences\, has announced the merger of Seagriculture USA and Seagriculture Asia-Pacific into a single\, global conference called Seagriculture World. \nThis strategic move reflects the organization’s aim to simplify the seaweed industry’s event calendar\, strengthen global collaboration\, and support innovation around the world. By merging two popular conferences into a single international event\, DLG Benelux can expand into new regions and respond more quickly to emerging market trends. This new approach also reflects industry feedback\, emphasizing the need for more streamlined and impactful events. \nSeagriculture World will take place every year in a different country. The conference will retain its successful format: \n\nOne day of site visits to see local seaweed operations and projects.\nTwo days of conference sessions covering different parts of the seaweed industry. In addition\, a trade show\, poster presentations\, and networking opportunities to help people connect and collaborate.\n\nThe Seagriculture conferences have grown into one of the leading global platforms for the seaweed industry\, attracting over 500 stakeholders annually. Participants include farmers\, processors\, distributors\, buyers\, equipment suppliers\, investors\, researchers\, and policymakers.
URL:https://www.farmtechsociety.org/event/seagriculture/
ATTACH;FMTTYPE=image/jpeg:https://www.farmtechsociety.org/wp-content/uploads/2026/01/6e0c5ccd-1c0f-42fd-9d1c-348ba702ec6e.jpg
END:VEVENT
BEGIN:VEVENT
DTSTART;VALUE=DATE:20260519
DTEND;VALUE=DATE:20260522
DTSTAMP:20260425T045544
CREATED:20260122T065946Z
LAST-MODIFIED:20260122T065946Z
UID:5394-1779231600-1779490799@www.farmtechsociety.org
SUMMARY:AGRITECHNICA ASIA
DESCRIPTION:AGRITECHNICA ASIA is the first spin-off of the world’s largest trade fair for agricultural machinery and equipment\, AGRITECHNICA in Hanover. \nThe premier trade fair of its kind in Asia is held annually\, rotating between Bangkok and Ho Chi Minh City. After the event in Bangkok in May 2024\, AGRITECHNICA ASIA will make its premiere in Ho Chi Minh City in March 2025\, followed by Bangkok in 2026. Thailand will continue to be the central hub for AGRITECHNICA ASIA in Asia. \nWith the involvement of key industry leaders such as John Deere\, AGCO\, CNH\, Mahindra\, CLAAS\, Fliegl and Maschio Gaspardo it has solidified its position as the leading event in the region. With the upcoming 2024 edition in May\, AGRITECHNICA ASIA anticipates record-breaking exhibitor numbers\, a larger exhibition area and an even more comprehensive specialist program. More than 300 exhibitors and 15\,000 visitors are expected from Asian countries. AGRITECHNICA ASIA will focus on rice\, maize\, sugarcane\, cassava\, vegetable and feed production. \nAn extensive technical program supplements the range of products and services offered by the exhibitors. About 350 top buyers from the entire Asia-Pacific region will participate in the “Hosted Buyer Program” to guarantee new partnerships and business. \nDLG – German Agricultural Society is the official organizer. The exhibition is highly supported by the Thai Ministry of Agriculture and Cooperatives\, being the official co-host of the event.
URL:https://www.farmtechsociety.org/event/agritechnica-asia/
END:VEVENT
BEGIN:VEVENT
DTSTART;VALUE=DATE:20260519
DTEND;VALUE=DATE:20260522
DTSTAMP:20260425T045544
CREATED:20260122T070220Z
LAST-MODIFIED:20260122T070220Z
UID:5400-1779231600-1779490799@www.farmtechsociety.org
SUMMARY:HortEx
DESCRIPTION:HortEx takes place in Vietnam and Thailand. HortEx Thailand is the leading international trade fair and conference for production and processing technology in horticulture and floriculture. It celebrated its premiere in 2024. \nIn Vietnam it is already a well-known trade fair. In the past editions from 2018 to 2023\, the fair attracted nearly 700 companies and welcomed over 19\,534 trade visitors. Further growth is expected in the coming years. \nAt the fair\, participating companies have the opportunity to meet and discuss directly with potential customers and improve their promotional and export activities for the promising Asian market. The fair attracts professionals\, buyers and visitors from all over Asia.
URL:https://www.farmtechsociety.org/event/hortex/
ATTACH;FMTTYPE=image/jpeg:https://www.farmtechsociety.org/wp-content/uploads/2026/01/d7d7243d-7a1d-430f-8229-39993421a7fc.jpg
END:VEVENT
END:VCALENDAR