BEGIN:VCALENDAR
VERSION:2.0
PRODID:-//FarmTech Society - ECPv6.8.1//NONSGML v1.0//EN
CALSCALE:GREGORIAN
METHOD:PUBLISH
X-ORIGINAL-URL:https://www.farmtechsociety.org
X-WR-CALDESC:Events for FarmTech Society
REFRESH-INTERVAL;VALUE=DURATION:PT1H
X-Robots-Tag:noindex
X-PUBLISHED-TTL:PT1H
BEGIN:VTIMEZONE
TZID:Europe/Helsinki
BEGIN:DAYLIGHT
TZOFFSETFROM:+0200
TZOFFSETTO:+0300
TZNAME:EEST
DTSTART:20260329T010000
END:DAYLIGHT
BEGIN:STANDARD
TZOFFSETFROM:+0300
TZOFFSETTO:+0200
TZNAME:EET
DTSTART:20261025T010000
END:STANDARD
TZID:Africa/Nairobi
BEGIN:STANDARD
TZOFFSETFROM:+0300
TZOFFSETTO:+0300
TZNAME:EAT
DTSTART:20260101T000000
END:STANDARD
END:VTIMEZONE
BEGIN:VEVENT
DTSTART;VALUE=DATE:20260615
DTEND;VALUE=DATE:20260618
DTSTAMP:20260425T062106
CREATED:20260122T070547Z
LAST-MODIFIED:20260122T070547Z
UID:5406-1781564400-1781823599@www.farmtechsociety.org
SUMMARY:Seagriculture EU
DESCRIPTION:Seagriculture EU has been successfully organised since 2012 and takes place every year in another country in Europe. The conference has built up a solid reputation as the leading conference for the Seaweed industry. \nThe Seagriculture EU conference program is designed to provide you with a comprehensive overview of the seaweed industry\, from the latest research to practical applications in the marketplace. With a diverse range of sessions\, the conference provides an opportunity for attendees to learn from experts in the field\, network with industry professionals\, and stay up-to-date on the latest developments in the seaweed industry.
URL:https://www.farmtechsociety.org/event/seagriculture-eu/
ATTACH;FMTTYPE=image/jpeg:https://www.farmtechsociety.org/wp-content/uploads/2026/01/49c324dc-1fa4-4c03-b7e0-d7d289e7c668.jpg
END:VEVENT
BEGIN:VEVENT
DTSTART;VALUE=DATE:20260616
DTEND;VALUE=DATE:20260619
DTSTAMP:20260425T062106
CREATED:20260122T070348Z
LAST-MODIFIED:20260122T070348Z
UID:5403-1781650800-1781909999@www.farmtechsociety.org
SUMMARY:Agritec Africa
DESCRIPTION:Agritec Africa has been taking place in the capital of Kenya\, Nairobi\, annually since 2014. The trade fair is an ideal trade fair platform for making and building contacts in the agriculture\, livestock\, dairy and grain industries.
URL:https://www.farmtechsociety.org/event/agritec-africa/
ATTACH;FMTTYPE=image/png:https://www.farmtechsociety.org/wp-content/uploads/2026/01/12th-Agritec-Africa-Logo.png
END:VEVENT
END:VCALENDAR